BEGIN:VCALENDAR
METHOD:PUBLISH
PRODID:-//doubleknot.com//CalenderEvent MIMEDIR//EN
VERSION:2.0
BEGIN:VEVENT
UID:2990302-20240311T220000Z-20240311T230000Z@doubleknot.com
CREATED:20230627T134831Z
LAST-MODIFIED:20230724T115900Z
DTSTAMP:20260423T155955Z
DTSTART:20240311T220000Z
DTEND:20240311T230000Z
LOCATION:Zoom, Mabelton, GA 30126, US
CATEGORIES:Council Program Events , STEM, Virtual Events 
DESCRIPTION:Join us to explore careers in STEM!  Meet our panelists working in this month&#39;s featured STEM career field, learn about their career paths, and ask them questions about their jobs.  This month&#39;s topic, the Science of Sports, will feature women who bring the world of STEM into sports!  Come with your curiosity and questions for these awesome women in STEM!  \n  \n  \n All ages of Girl Scouts can earn their STEM Career Explorer badge by attending TWO virtual panels and completing an age-appropriate worksheet (which will be provided via email before the program).  STEM Career Panels will be held monthly during the school year (except for holiday breaks).  Please note that this virtual STEM Career Panel will NOT be recorded for the safety and privacy of the Girl Scouts participating.   \n  \n  \n This program is for all levels of Girl Scouts, Daisy to Ambassador (K-12th grade).  This workshop will be hosted virtually on Zoom.  The Zoom registration link and passcode will be emailed on completion of registration and the day before the program.  All questions can be directed to us at STEM@gsgatl.org.  \n 
SUMMARY:STEM Career Panel: March 2024
PRIORITY:5
BEGIN:VALARM
TRIGGER:PT15M
ACTION:DISPLAY
DESCRIPTION:Reminder
PRIORITY:5
END:VALARM
END:VEVENT
END:VCALENDAR
